BEGIN:VCALENDAR
VERSION:2.0
PRODID:-//wp-events-plugin.com//7.2.3.1//EN
TZID:America/Chicago
X-WR-TIMEZONE:America/Chicago
BEGIN:VEVENT
UID:982@firstbaptistmv.com
DTSTART;TZID=America/Chicago:20231224T090000
DTEND;TZID=America/Chicago:20231224T101500
DTSTAMP:20221014T174026Z
URL:https://firstbaptistmv.com/events/adult-bible-fellowship-2023-12-24/
SUMMARY:Adult Bible Fellowship
DESCRIPTION:
ATTACH;FMTTYPE=image/jpeg:https://firstbaptistmv.com/wp-content/uploads/20
 22/10/AdobeStock_49469690-1-scaled.jpeg
END:VEVENT
BEGIN:VTIMEZONE
TZID:America/Chicago
X-LIC-LOCATION:America/Chicago
BEGIN:STANDARD
DTSTART:20231105T010000
TZOFFSETFROM:-0500
TZOFFSETTO:-0600
TZNAME:CST
END:STANDARD
END:VTIMEZONE
END:VCALENDAR